BEGIN:VCALENDAR
VERSION:2.0
PRODID:-//ChamberMaster//Event Calendar 2.0//EN
METHOD:PUBLISH
X-PUBLISHED-TTL:P3D
REFRESH-INTERVAL:P3D
CALSCALE:GREGORIAN
BEGIN:VEVENT
DTSTART:20210217T140000Z
DTEND:20210217T150000Z
X-MICROSOFT-CDO-ALLDAYEVENT:FALSE
SUMMARY:Business Owners Roundtable
DESCRIPTION:WHAT IS THE PURPOSE OF SMALL BUSINESS OWNERS ROUNDTABLE?\n\n						Our mission is to facilitate meaningful peer-to-peer discussion that drives BIG results for small business owners. \n\n						\n\n						We promise you:\n						\n							A "no-sell" zone\n							To start and finish on time\n							To stay on point\n						\n						We ask you to:\n\n						\n							Be present and engaged\n							Be open to new ideas\n							Offer constructive contributions\n						\n						\n					\n				\n			\n			\n			\n			\n				\n					\n						\n						CHAIRS\n\n						Chair   Kelton Glewwe\, Roadware\, Inc.\n						\n					\n					\n						WHO CAN PARTICIPATE?\n\n						You must be a Chamber member and the owner of a small business.
X-ALT-DESC;FMTTYPE=text/html:<table align="center" bgcolor="#FFFFFF" border="0" style="color: rgb(102\, 102\, 102)\; font-family: Arial\, Helvetica\, sans-serif\; font-size: 12px\;" width="600">\n	<tbody>\n		<tr>\n			<td valign="top">\n			<table cellpadding="15" cellspacing="14">\n				<tbody>\n					<tr>\n						<td bgcolor="#e9f4f6" height="314" style="font-size: 12px\; color: rgb(51\, 51\, 51)\;" valign="top" width="300"><span style="font-size: 14px\; color: rgb(21\, 68\, 108)\;"><strong>WHAT IS THE PURPOSE OF SMALL BUSINESS OWNERS ROUNDTABLE?</strong></span><br />\n						Our mission is to facilitate meaningful peer-to-peer discussion that drives BIG results for small business owners.&nbsp\;<br />\n						<br />\n						<span style="size: 12px\; color: rgb(21\, 68\, 108)\;"><strong>We promise you:</strong></span>\n						<ul style="padding-top: 0px\; margin-top: 0px\;">\n							<li>A &quot\;no-sell&quot\; zone</li>\n							<li>To start and finish on time</li>\n							<li>To stay on point</li>\n						</ul>\n						<span style="size: 12px\; color: rgb(21\, 68\, 108)\;"><strong>We ask you to:</strong></span>\n\n						<ul style="padding-top: 0px\; margin-top: 0px\;">\n							<li>Be present and engaged</li>\n							<li>Be open to new ideas</li>\n							<li>Offer constructive contributions</li>\n						</ul>\n						</td>\n					</tr>\n				</tbody>\n			</table>\n			</td>\n			<td height="100%">\n			<table cellspacing="14">\n				<tbody>\n					<tr>\n						<td bgcolor="#e9f4f6" colspan="2" style="font-size: 12px\; padding: 15px\; margin-bottom: 7px\; color: rgb(51\, 51\, 51)\;" valign="top" width="300">\n						<p style="padding: 5px 0px\; margin: 0px\;"><span style="font-size: 14px\; color: rgb(21\, 68\, 108)\;"><strong>CHAIRS</strong></span><br />\n						Chair &ndash\; Kelton Glewwe\, Roadware\, Inc.</p>\n						</td>\n					</tr>\n					<tr>\n						<td bgcolor="#e9f4f6" colspan="2" style="font-size: 12px\; padding: 15px\; margin-bottom: 7px\; color: rgb(51\, 51\, 51)\;" valign="top" width="300"><span style="font-size: 14px\; color: rgb(21\, 68\, 108)\;"><strong>WHO CAN PARTICIPATE?</strong></span><br />\n						You must be a Chamber member and the owner of a small business.</td>\n					</tr>\n				</tbody>\n			</table>\n			</td>\n		</tr>\n	</tbody>\n</table>\n
LOCATION:Meeting Held via Zoom
UID:e.722.395249
SEQUENCE:3
DTSTAMP:20260424T215640Z
URL:https://members.riverheights.com/events/details/business-owners-roundtable-02-17-2021-395249
END:VEVENT

END:VCALENDAR
