BEGIN:VCALENDAR
VERSION:2.0
PRODID:-//ChamberMaster//Event Calendar 2.0//EN
METHOD:PUBLISH
X-PUBLISHED-TTL:P3D
REFRESH-INTERVAL:P3D
CALSCALE:GREGORIAN
BEGIN:VEVENT
DTSTART:20121206T173000Z
DTEND:20121206T193000Z
X-MICROSOFT-CDO-ALLDAYEVENT:FALSE
SUMMARY:Cheers to Our Volunteers Appreciation Luncheon
DESCRIPTION:Join us as we recognize our Forrest Glewwe Visions of Excellence Award recipient\, Rising Star and volunteer leaders!  Enjoy a great lunch in a warm holiday setting and give-a-ways from the Chamber!\n\n\n\nKeynote Speaker\, Brad Rixmann\, Entrepreneur and Owner of Pawn America\n\n\n\n"That first store was not only a great opportunity to start my own business\, but it also was a golden opportunity to show the property's customers and the community MY vision of how a pawn shop would be operated\," explains Brad. "From that point on\, I wanted to permanently change the perception of the word PAWN."
X-ALT-DESC;FMTTYPE=text/html:Join us as we recognize our Forrest Glewwe Visions of Excellence Award recipient\, Rising Star and volunteer leaders!&nbsp\; Enjoy a great lunch in a warm holiday setting and give-a-ways from the Chamber!<br />\n<br />\nKeynote Speaker\, Brad Rixmann\, Entrepreneur and Owner of Pawn America<br />\n<br />\n&quot\;That first store was not only a great opportunity to start my own business\, but it also was a golden opportunity to show the property&rsquo\;s customers and the community MY vision of how a pawn shop would be operated\,&rdquo\; explains Brad. &ldquo\;From that point on\, I wanted to permanently change the perception of the word PAWN.&rdquo\;
LOCATION:Mendakota Country Club 2075 Mendakota Drive Mendota Heights\, MN 55120
UID:e.722.393784
SEQUENCE:3
DTSTAMP:20260420T065840Z
URL:https://members.riverheights.com/events/details/cheers-to-our-volunteers-appreciation-luncheon-12-06-2012-393784
END:VEVENT

END:VCALENDAR
