BEGIN:VCALENDAR
VERSION:2.0
PRODID:-//ChamberMaster//Event Calendar 2.0//EN
METHOD:PUBLISH
X-PUBLISHED-TTL:P3D
REFRESH-INTERVAL:P3D
CALSCALE:GREGORIAN
BEGIN:VEVENT
DTSTART:20260430T140000Z
DTEND:20260502T170000Z
X-MICROSOFT-CDO-ALLDAYEVENT:FALSE
SUMMARY:Royal Credit Union Shred Event
DESCRIPTION:Royal Credit Union will be hosting shred events at several Royal offices this Spring. Shred events are an opportunity for Members and the general public to properly dispose of their personal documents and files for free. Royal partners with Merrick Inc. to safely dispose of documents. Attendees can bring their shred into the office during regular lobby hours and place their shred into secured bins.\n\n\n\nAt Royal\, our core purpose is to create a positive impact in the lives we touch.  We go beyond our credit union Members and team members to make a difference by giving back in our wider community.  Because of this\, shred events are free and open to all community members. By bringing your confidential items to a Royal Credit Union shred event\, you gain peace of mind knowing that your documents are securely destroyed.\n\nSt. Paul Shred Event\n\nSt. Paul Office\n\nThur\, April 16 to Sat\, April 18\n\nDuring Lobby Hours\n\n\n\nWhite Bear Lake Shred Event\n\nWhite Bear Lake Office\n\nThur\, April 23 to Sat\, April 25\n\nDuring Lobby Hours\n\n\n\nInver Grove Heights Shred Event\n\nInver Grove Heights Office\n\nThur\, April 30 to Sat\, May 2\n\nDuring Lobby Hours\n\n\n\nLearn more at rcu.org/Shred.
X-ALT-DESC;FMTTYPE=text/html:Royal Credit Union will be hosting shred events at several Royal offices this Spring. Shred events are an opportunity for Members and the general public to properly dispose of their personal documents and files for free. Royal partners with Merrick Inc. to safely dispose of documents. Attendees can bring their shred into the office during regular lobby hours and place their shred into secured bins.<br />\n<br />\nAt Royal\, our core purpose is to create a positive impact in the lives we touch.&nbsp\; We go beyond our credit union Members and team members to make a difference by giving back in our wider community.&nbsp\; Because of this\, shred events are free and open to all community members. By bringing your confidential items to a Royal Credit Union shred event\, you gain peace of mind knowing that your documents are securely destroyed.\n<div>\n<p><u>St. Paul Shred Event</u><br />\n<a href="https://www.rcu.org/offices/st-paul-office" style="box-sizing: border-box\; color: rgb(37\, 84\, 147)\; text-decoration-line: none\; background-color: transparent\; font-weight: 600\;">St. Paul Office</a><br />\nThur\, April 16 to Sat\, April 18<br />\nDuring Lobby Hours</p>\n</div>\n\n<div>\n<p><u>White Bear Lake Shred Event</u><br />\n<a href="https://www.rcu.org/offices/white-bear-lake-office" style="box-sizing: border-box\; color: rgb(37\, 84\, 147)\; text-decoration-line: none\; background-color: transparent\; font-weight: 600\;">White Bear Lake Office</a><br />\nThur\, April 23 to Sat\, April 25<br />\nDuring Lobby Hours</p>\n</div>\n\n<div>\n<p><u>Inver Grove Heights Shred Event</u><br />\n<a href="https://www.rcu.org/offices/inver-grove-heights" style="box-sizing: border-box\; color: rgb(37\, 84\, 147)\; text-decoration-line: none\; background-color: transparent\; font-weight: 600\;">Inver Grove Heights Office</a><br />\nThur\, April 30 to Sat\, May 2<br />\nDuring Lobby Hours<br />\n<br />\nLearn more at<a href="https://www.rcu.org/about-royal/news-events/news-stories/royal-announces-shred-events"> rcu.org/Shred</a>.</p>\n</div>\n
LOCATION:Royal Credit Union- Inver Grove Heights 7055 Cahill Avenue Inver Grove Heights\, MN 55076
UID:e.722.400026
SEQUENCE:3
DTSTAMP:20260421T083624Z
URL:https://members.riverheights.com/events/details/royal-credit-union-shred-event-400026
END:VEVENT

END:VCALENDAR
