BEGIN:VCALENDAR
VERSION:2.0
PRODID:-//ChamberMaster//Event Calendar 2.0//EN
METHOD:PUBLISH
X-PUBLISHED-TTL:P3D
REFRESH-INTERVAL:P3D
CALSCALE:GREGORIAN
BEGIN:VEVENT
DTSTART:20260506T223000Z
DTEND:20260507T023000Z
X-MICROSOFT-CDO-ALLDAYEVENT:FALSE
SUMMARY:The Devil Wears Prada 2 - Special Movie Premiere Night at Emagine
DESCRIPTION:Join Eagan City Lifestyle for a special screening of The Devil Wears Prada at Emagine Theatre! An iconic fashion film celebrated with a stylish\, community-forward movie night. This elevated premiere experience brings together fashion\, film\, and fun for a memorable night out. Guests are invited to dress up\, enjoy the big screen experience\, and connect with the Eagan community for a fabulous evening.\n\n\n\nTicket Includes:\n\n  5:30 6:30 PM Social Hour (ax-throwing included)\n\n  5:30 7:00 PM Boutique Shopping\n\n  7:00 PM Movie Screening\n\n\n\nMore details and tickets available here
X-ALT-DESC;FMTTYPE=text/html:<br />\n<span style="border:none windowtext 1.0pt\;padding:0in\;"><span style="color:black\;"><span style="font-family:arial\,sans-serif\;">Join <a href="https://citylifestyle.com/eagan">Eagan City Lifestyle </a>for a special screening of The Devil Wears Prada at Emagine Theatre!&nbsp\;</span></span></span><span style="border:none windowtext 1.0pt\;padding:0in\;"><span style="color:black\;"><span style="font-family:arial\,sans-serif\;">An iconic fashion film celebrated with a stylish\, community-forward movie night.&nbsp\;</span></span></span><span style="border:none windowtext 1.0pt\;padding:0in\;"><span style="color:black\;"><span style="font-family:arial\,sans-serif\;">This elevated premiere experience brings together fashion\, film\, and fun for a memorable night out. Guests are invited to dress up\, enjoy the big screen experience\, and connect with the Eagan community for a fabulous evening.</span></span></span><br />\n<br />\n<span style="border:none windowtext 1.0pt\;padding:0in\;"><span style="color:black\;"><span style="font-family:arial\,sans-serif\;">Ticket Includes:<br />\n&bull\; 5:30&ndash\;6:30 PM Social Hour (ax-throwing included)<br />\n&bull\; 5:30&ndash\;7:00 PM Boutique Shopping<br />\n&bull\; 7:00 PM Movie Screening<br />\n<br />\n<a href="https://www.eventbrite.com/e/the-devil-wears-prada-special-movie-premiere-night-at-emagine-tickets-1983822386160?aff=oddtdtcreator"><span style="font-size:18px\;"><strong>More details and tickets available here</strong></span></a></span></span></span>
LOCATION:Emagine Eagan 2055 Cliff Road Eagan\, MN 55122
UID:e.722.400041
SEQUENCE:3
DTSTAMP:20260423T181327Z
URL:https://members.riverheights.com/events/details/the-devil-wears-prada-2-special-movie-premiere-night-at-emagine-400041
END:VEVENT

END:VCALENDAR
